BEGIN:VCALENDAR
VERSION:2.0
PRODID:spatie/icalendar-generator
DESCRIPTION:Events from SY Services
X-WR-CALDESC:Events from SY Services
REFRESH-INTERVAL;VALUE=DURATION:PT1440M
X-PUBLISHED-TTL:PT1440M
BEGIN:VTIMEZONE
TZID:America/Denver
BEGIN:STANDARD
DTSTART:20251102T020000Z
TZOFFSETFROM:-0600
TZOFFSETTO:-0700
END:STANDARD
BEGIN:DAYLIGHT
DTSTART:20260308T020000Z
TZOFFSETFROM:-0700
TZOFFSETTO:-0600
END:DAYLIGHT
END:VTIMEZONE
BEGIN:VTIMEZONE
TZID:UTC
BEGIN:STANDARD
DTSTART:20250724T154251Z
TZOFFSETFROM:+0000
TZOFFSETTO:+0000
END:STANDARD
END:VTIMEZONE
BEGIN:VEVENT
UID:822-417
DTSTAMP:20260420T154251Z
SUMMARY:Library (Both Groups)
LOCATION:
ORGANIZER;CN=syssw380015:MAILTO:info@coloradocreativedesigns.com
RRULE:FREQ=WEEKLY;UNTIL=20261231T000000Z
DTSTART;TZID=America/Denver;VALUE=DATE:20260427
DTEND;TZID=America/Denver;VALUE=DATE:20260428
X-ALT-DESC;FMTTYPE=TEXT/HTML:
CATEGORIES:General
URL;VALUE=URI:https://syservices.org/mc-events/library-both-groups-2/?mc_id
 =822
METHOD:PUBLISH
END:VEVENT
END:VCALENDAR